BEGIN:VCALENDAR
VERSION:2.0
CALSCALE:GREGORIAN
PRODID:-//Diputació de Barcelona//DibaCMS//EN
BEGIN:VEVENT
UID:25061
DTSTAMP:20260426T042457
DTSTART:20260124T170000
DTEND:20260124T170000
SUMMARY:Torneig de petanca
LOCATION:C. Agricultura, s/n 08755 Castellbisbal
METHOD:PUBLISH
X-WR-CALNAME:comunicacio@castellbisbal.cat
X-WR-TIMEZONE:Europe/Madrid
DESCRIPTION:ANUL·LAT PER LA PREVISIÓ DE PLUJA

URI:https://www.castellbisbal.cat/actualitat/agenda/festa-major-de-sant-vicenc/25061-torneig-de-petanca.html
CLASS:PUBLIC
END:VEVENT
END:VCALENDAR
