BEGIN:VCALENDAR
VERSION:2.0
CALSCALE:GREGORIAN
PRODID:-//Diputació de Barcelona//DibaCMS//EN
BEGIN:VEVENT
UID:25089
DTSTAMP:20260426T041018
DTSTART:20260121T180000
DTEND:20260121T180000
SUMMARY:Racó Jove: Jocs de rol
LOCATION:Carrer Francesc Macià, 64 08755 Castellbisbal
METHOD:PUBLISH
X-WR-CALNAME:comunicacio@castellbisbal.cat
X-WR-TIMEZONE:Europe/Madrid
DESCRIPTION:El 21 de gener, a les 18.00 hores, al Racó Jove

URI:https://www.castellbisbal.cat/actualitat/agenda/raco-jove-jocs-de-rol.html
CLASS:PUBLIC
END:VEVENT
END:VCALENDAR
