BEGIN:VCALENDAR
VERSION:2.0
CALSCALE:GREGORIAN
PRODID:-//Diputació de Barcelona//DibaCMS//EN
BEGIN:VEVENT
UID:25093
DTSTAMP:20260426T041242
DTSTART:20260123T173000
DTEND:20260123T173000
SUMMARY:Contes menuts: Cel amunt
LOCATION:Av. de Pau Casals, 16 08755 Castellbisbal
METHOD:PUBLISH
X-WR-CALNAME:comunicacio@castellbisbal.cat
X-WR-TIMEZONE:Europe/Madrid
DESCRIPTION:El 23 de gener, a les 17.30 i 18.15 hores, a la Biblioteca Josep Mateu i Miró

URI:https://www.castellbisbal.cat/actualitat/agenda/biblioteca/contes-menuts-cel-amunt.html
CLASS:PUBLIC
END:VEVENT
END:VCALENDAR
