BEGIN:VCALENDAR
VERSION:2.0
CALSCALE:GREGORIAN
PRODID:-//Diputació de Barcelona//DibaCMS//EN
BEGIN:VEVENT
UID:25111
DTSTAMP:20260426T030713
DTSTART:20260122T190000
DTEND:20260122T190000
SUMMARY:Obertura de l'exposició "Façanes, peixeres i un conte"
LOCATION:Avinguda Pau Casals, 16 08755 Castellbisbal
METHOD:PUBLISH
X-WR-CALNAME:comunicacio@castellbisbal.cat
X-WR-TIMEZONE:Europe/Madrid
DESCRIPTION:El 22 de gener, a les 19.00 hores, a l'Espai Montserrat Roig d'Els Costals

URI:https://www.castellbisbal.cat/actualitat/agenda/festa-major-de-sant-vicenc/obertura-de-lexposicio-facanes-peixeres-i-un-conte.html
CLASS:PUBLIC
END:VEVENT
END:VCALENDAR
