BEGIN:VCALENDAR
VERSION:2.0
CALSCALE:GREGORIAN
PRODID:-//Diputació de Barcelona//DibaCMS//EN
BEGIN:VEVENT
UID:25166
DTSTAMP:20260420T125624
DTSTART:20260122T123000
DTEND:20260122T123000
SUMMARY:Reunions externes
LOCATION:
METHOD:PUBLISH
X-WR-CALNAME:comunicacio@castellbisbal.cat
X-WR-TIMEZONE:Europe/Madrid
DESCRIPTION:
URI:https://www.castellbisbal.cat/ajuntament/govern/3631-agenda-institucional/reunions-externes.html
CLASS:PUBLIC
END:VEVENT
END:VCALENDAR
