BEGIN:VCALENDAR
VERSION:2.0
CALSCALE:GREGORIAN
PRODID:-//Diputació de Barcelona//DibaCMS//EN
BEGIN:VEVENT
UID:25220
DTSTAMP:20260426T042514
DTSTART:20260321T200000
DTEND:20260321T200000
SUMMARY:Teatre: Cunyades
LOCATION:Av. de Pau Casals, 16 08755 Castellbisbal
METHOD:PUBLISH
X-WR-CALNAME:comunicacio@castellbisbal.cat
X-WR-TIMEZONE:Europe/Madrid
DESCRIPTION:El 21 de març, a les 20.00 hores, a l'Auditori d'Els Costals - ACTUACIÓ AJORNADA!

URI:https://www.castellbisbal.cat/actualitat/agenda/teatre-cunyades.html
CLASS:PUBLIC
END:VEVENT
END:VCALENDAR
