BEGIN:VCALENDAR
VERSION:2.0
CALSCALE:GREGORIAN
PRODID:-//Diputació de Barcelona//DibaCMS//EN
BEGIN:VEVENT
UID:25261
DTSTAMP:20260419T151744
DTSTART:20260206T000000
DTEND:20260206T000000
SUMMARY:Reunió coordinació: Educació
LOCATION:Avinguda Pau Casals, 9 08755 Castellbisbal
METHOD:PUBLISH
X-WR-CALNAME:comunicacio@castellbisbal.cat
X-WR-TIMEZONE:Europe/Madrid
DESCRIPTION:Reunió de coordinació amb el Departament d'Educació

URI:https://www.castellbisbal.cat/ajuntament/govern/3631-agenda-institucional/reunio-coordinacio-educacio.html
CLASS:PUBLIC
END:VEVENT
END:VCALENDAR
