BEGIN:VCALENDAR
VERSION:2.0
CALSCALE:GREGORIAN
PRODID:-//Diputació de Barcelona//DibaCMS//EN
BEGIN:VEVENT
UID:25324
DTSTAMP:20260423T174237
DTSTART:20260219T123000
DTEND:20260219T123000
SUMMARY:Reunió externa
LOCATION:
METHOD:PUBLISH
X-WR-CALNAME:comunicacio@castellbisbal.cat
X-WR-TIMEZONE:Europe/Madrid
DESCRIPTION:
URI:https://www.castellbisbal.cat/ajuntament/govern/3631-agenda-institucional/25324-reunio-externa.html
CLASS:PUBLIC
END:VEVENT
END:VCALENDAR
