BEGIN:VCALENDAR
VERSION:2.0
CALSCALE:GREGORIAN
PRODID:-//Diputació de Barcelona//DibaCMS//EN
BEGIN:VEVENT
UID:25365
DTSTAMP:20260420T130126
DTSTART:20260226T120000
DTEND:20260226T120000
SUMMARY:Reunió coordinació: departaments
LOCATION:
METHOD:PUBLISH
X-WR-CALNAME:comunicacio@castellbisbal.cat
X-WR-TIMEZONE:Europe/Madrid
DESCRIPTION:
URI:https://www.castellbisbal.cat/ajuntament/govern/3631-agenda-institucional/reunio-coordinacio-departaments.html
CLASS:PUBLIC
END:VEVENT
END:VCALENDAR
