BEGIN:VCALENDAR
VERSION:2.0
CALSCALE:GREGORIAN
PRODID:-//Diputació de Barcelona//DibaCMS//EN
BEGIN:VEVENT
UID:25399
DTSTAMP:20260420T102515
DTSTART:20260305T183000
DTEND:20260305T183000
SUMMARY:Joc creatiu: MMMiquel, juga amb el llenguatge
LOCATION:Av. de Pau Casals, 16 08755 Castellbisbal
METHOD:PUBLISH
X-WR-CALNAME:comunicacio@castellbisbal.cat
X-WR-TIMEZONE:Europe/Madrid
DESCRIPTION:El 5 de març, a les 18.30 hores, a la Biblioteca Municipal Josep Mateu i Miró

URI:https://www.castellbisbal.cat/actualitat/agenda/biblioteca/joc-creatiu-mmmiquel-juga-amb-el-llenguatge.html
CLASS:PUBLIC
END:VEVENT
END:VCALENDAR
