BEGIN:VCALENDAR
VERSION:2.0
CALSCALE:GREGORIAN
PRODID:-//Diputació de Barcelona//DibaCMS//EN
BEGIN:VEVENT
UID:25411
DTSTAMP:20260421T104314
DTSTART:20260310T180000
DTEND:20260310T180000
SUMMARY:Els controls de sexe a l’esport: dones sota sospita
LOCATION:Av. de Pau Casals, 16 08755 Castellbisbal
METHOD:PUBLISH
X-WR-CALNAME:comunicacio@castellbisbal.cat
X-WR-TIMEZONE:Europe/Madrid
DESCRIPTION:El 10 de març, a les 18.00 hores, a la Biblioteca Municipal Josep Mateu i Miró

URI:https://www.castellbisbal.cat/actualitat/agenda/biblioteca/els-controls-de-sexe-a-lesport-dones-sota-sospita.html
CLASS:PUBLIC
END:VEVENT
END:VCALENDAR
