BEGIN:VCALENDAR
VERSION:2.0
CALSCALE:GREGORIAN
PRODID:-//Diputació de Barcelona//DibaCMS//EN
BEGIN:VEVENT
UID:25432
DTSTAMP:20260425T002042
DTSTART:20260303T100000
DTEND:20260303T100000
SUMMARY:Sessió informativa: Projecte d'inserció laboral per a persones amb discapacitat
LOCATION:avinguda de Pau Casals, 16 08755 Castellbisbal
METHOD:PUBLISH
X-WR-CALNAME:comunicacio@castellbisbal.cat
X-WR-TIMEZONE:Europe/Madrid
DESCRIPTION:El 3 de març, a les 10.00 hores, a l'espai Margarida Xirgu d'Els Costals

URI:https://www.castellbisbal.cat/actualitat/agenda/sessio-informativa-projecte-dinsercio-laboral-per-a-persones-amb-discapacitat.html
CLASS:PUBLIC
END:VEVENT
END:VCALENDAR
