BEGIN:VCALENDAR
VERSION:2.0
CALSCALE:GREGORIAN
PRODID:-//Diputació de Barcelona//DibaCMS//EN
BEGIN:VEVENT
UID:25456
DTSTAMP:20260421T110154
DTSTART:20260304T160000
DTEND:20260304T160000
SUMMARY:Reunió i visita Diputat adjunt de l'Àrea d'Esports i Activitat Física de la DIBA
LOCATION:
METHOD:PUBLISH
X-WR-CALNAME:comunicacio@castellbisbal.cat
X-WR-TIMEZONE:Europe/Madrid
DESCRIPTION:
URI:https://www.castellbisbal.cat/ajuntament/govern/3631-agenda-institucional/reunio-i-visita-diputat-adjunt-de-larea-desports-i-activitat-fisica-de-la-diba.html
CLASS:PUBLIC
END:VEVENT
END:VCALENDAR
