BEGIN:VCALENDAR
VERSION:2.0
CALSCALE:GREGORIAN
PRODID:-//Diputació de Barcelona//DibaCMS//EN
BEGIN:VEVENT
UID:25458
DTSTAMP:20260421T133046
DTSTART:20260306T130000
DTEND:20260306T130000
SUMMARY:Alcaldia Oberta
LOCATION:Avinguda Pau Casals, 9 08755 Castellbisbal
METHOD:PUBLISH
X-WR-CALNAME:comunicacio@castellbisbal.cat
X-WR-TIMEZONE:Europe/Madrid
DESCRIPTION:
URI:https://www.castellbisbal.cat/ajuntament/govern/3631-agenda-institucional/25458-alcaldia-oberta.html
CLASS:PUBLIC
END:VEVENT
END:VCALENDAR
